BEGIN:VCALENDAR
VERSION:2.0
PRODID:-//Gianni Oliva - ECPv4.6.23//NONSGML v1.0//EN
CALSCALE:GREGORIAN
METHOD:PUBLISH
X-WR-CALNAME:Gianni Oliva
X-ORIGINAL-URL:http://giannioliva.it
X-WR-CALDESC:Events for Gianni Oliva
BEGIN:VEVENT
DTSTART;TZID=Europe/Rome:20191205T180000
DTEND;TZID=Europe/Rome:20191205T200000
DTSTAMP:20260426T015130
CREATED:20191220T095124Z
LAST-MODIFIED:20191220T095152Z
UID:2725-1575568800-1575576000@giannioliva.it
SUMMARY:Presentazione “ANNI DI PIOMBO E DI TRITOLO”- PINEROLO
DESCRIPTION:Presentazione “Anni di piombo e di tritolo”\nh.18.00 – PINEROLO\, Libreria Volo\n
URL:http://giannioliva.it/event/2725/
CATEGORIES:Presentazioni
ATTACH;FMTTYPE=image/jpeg:http://giannioliva.it/wp-content/uploads/2019/10/978880471223HIG-319x480-2-1.jpg
END:VEVENT
END:VCALENDAR