BEGIN:VCALENDAR
VERSION:2.0
PRODID:-//Gianni Oliva - ECPv4.6.23//NONSGML v1.0//EN
CALSCALE:GREGORIAN
METHOD:PUBLISH
X-WR-CALNAME:Gianni Oliva
X-ORIGINAL-URL:http://giannioliva.it
X-WR-CALDESC:Events for Gianni Oliva
BEGIN:VEVENT
DTSTART;TZID=Europe/Rome:20240206T204500
DTEND;TZID=Europe/Rome:20240206T230000
DTSTAMP:20260423T043920
CREATED:20240202T124906Z
LAST-MODIFIED:20240202T125742Z
UID:5992-1707252300-1707260400@giannioliva.it
SUMMARY:AOSTA: "Foibe ed esodo giuliano-dalmata tra storia e memoria"
DESCRIPTION:
URL:http://giannioliva.it/event/aosta-foibe-ed-esodo-giuliano-dalmata/
CATEGORIES:Conferenza
ATTACH;FMTTYPE=image/jpeg:http://giannioliva.it/wp-content/uploads/2024/02/IMG-20240201-WA0000.jpg
END:VEVENT
END:VCALENDAR