BEGIN:VCALENDAR
VERSION:2.0
PRODID:-//Gianni Oliva - ECPv4.6.23//NONSGML v1.0//EN
CALSCALE:GREGORIAN
METHOD:PUBLISH
X-WR-CALNAME:Gianni Oliva
X-ORIGINAL-URL:http://giannioliva.it
X-WR-CALDESC:Events for Gianni Oliva
BEGIN:VEVENT
DTSTART;TZID=Europe/Rome:20241116T180000
DTEND;TZID=Europe/Rome:20241116T193000
DTSTAMP:20260424T121426
CREATED:20241028T093015Z
LAST-MODIFIED:20241028T093015Z
UID:6510-1731780000-1731785400@giannioliva.it
SUMMARY:ASTI – Presentazione romanzo “Il pendio dei noci”
DESCRIPTION:16 novembre\n\n\nh. 18.00 ASTI c/o Aula Magna Università – Presentazione romanzo “Il pendio dei noci”\n\n\n
URL:http://giannioliva.it/event/asti-presentazione-romanzo-il-pendio-dei-noci/
CATEGORIES:Presentazioni
END:VEVENT
END:VCALENDAR