BEGIN:VCALENDAR
VERSION:2.0
PRODID:-//Gianni Oliva - ECPv4.6.23//NONSGML v1.0//EN
CALSCALE:GREGORIAN
METHOD:PUBLISH
X-WR-CALNAME:Gianni Oliva
X-ORIGINAL-URL:http://giannioliva.it
X-WR-CALDESC:Events for Gianni Oliva
BEGIN:VEVENT
DTSTART;TZID=Europe/Rome:20241115T170000
DTEND;TZID=Europe/Rome:20241115T190000
DTSTAMP:20260424T170157
CREATED:20241028T092624Z
LAST-MODIFIED:20241028T093051Z
UID:6503-1731690000-1731697200@giannioliva.it
SUMMARY:BEINASCO (TO) – Presentazione romanzo “Il pendio dei noci”
DESCRIPTION:15 novembre \n\n\nh. 17.00 BEINASCO (TO) Centro “Bruno Zevi” Str. Torino 18 – Presentazione romanzo “Il pendio dei noci”\n\n\n
URL:http://giannioliva.it/event/beinasco-to-presentazione-romanzo-il-pendio-dei-noci/
CATEGORIES:Presentazioni
END:VEVENT
END:VCALENDAR