BEGIN:VCALENDAR
VERSION:2.0
PRODID:-//Gianni Oliva - ECPv4.6.23//NONSGML v1.0//EN
CALSCALE:GREGORIAN
METHOD:PUBLISH
X-WR-CALNAME:Gianni Oliva
X-ORIGINAL-URL:http://giannioliva.it
X-WR-CALDESC:Events for Gianni Oliva
BEGIN:VEVENT
DTSTART;TZID=Europe/Rome:20221024T100000
DTEND;TZID=Europe/Rome:20221024T120000
DTSTAMP:20260424T064124
CREATED:20221017T084650Z
LAST-MODIFIED:20221020T092049Z
UID:5156-1666605600-1666612800@giannioliva.it
SUMMARY:BRESCIA – “FOIBE TRA NEGAZIONE E RIMOZIONE: LE RAGIONI DEL SILENZIO”
DESCRIPTION:24 ottobre\n\n\nh. 10.00 – BRESCIA – Auditorium I.T.C.S. “Abba-Ballini” – “FOIBE TRA NEGAZIONE E RIMOZIONE: LE RAGIONI DEL SILENZIO”\n\n\nSEMINARIO BRESCIA 24 OTTOBRE 2022 (1)\n
URL:http://giannioliva.it/event/brescia-c-o-municipio-il-confine-nordorientale/
CATEGORIES:Presentazioni
END:VEVENT
END:VCALENDAR