BEGIN:VCALENDAR
VERSION:2.0
PRODID:-//Gianni Oliva - ECPv4.6.23//NONSGML v1.0//EN
CALSCALE:GREGORIAN
METHOD:PUBLISH
X-WR-CALNAME:Gianni Oliva
X-ORIGINAL-URL:http://giannioliva.it
X-WR-CALDESC:Events for Gianni Oliva
BEGIN:VEVENT
DTSTART;TZID=Europe/Rome:20240224T170000
DTEND;TZID=Europe/Rome:20240224T190000
DTSTAMP:20260423T071046
CREATED:20240212T110131Z
LAST-MODIFIED:20240212T110547Z
UID:6024-1708794000-1708801200@giannioliva.it
SUMMARY:COAZZE: Presentazione del libro "45 milioni di antifascisti"
DESCRIPTION:
URL:http://giannioliva.it/event/coazze/
CATEGORIES:Presentazioni
ATTACH;FMTTYPE=image/jpeg:http://giannioliva.it/wp-content/uploads/2024/02/IMG-20240210-WA0005.jpg
END:VEVENT
END:VCALENDAR