BEGIN:VCALENDAR
VERSION:2.0
PRODID:-//Gianni Oliva - ECPv4.6.23//NONSGML v1.0//EN
CALSCALE:GREGORIAN
METHOD:PUBLISH
X-WR-CALNAME:Gianni Oliva
X-ORIGINAL-URL:http://giannioliva.it
X-WR-CALDESC:Events for Gianni Oliva
BEGIN:VEVENT
DTSTART;TZID=Europe/Rome:20161117T150000
DTEND;TZID=Europe/Rome:20161117T160000
DTSTAMP:20260423T190511
CREATED:20161108T093200Z
LAST-MODIFIED:20161108T093230Z
UID:989-1479394800-1479398400@giannioliva.it
SUMMARY:Conferenza\, "Il colonialismo italiano"\, Salone scuola media \, Santena (To)
DESCRIPTION:
URL:http://giannioliva.it/event/conferenza-il-colonialismo-italiano-salone-scuola-media-santena-to/
LOCATION:Scuola media santena\, Via Tetti Agostino\, 31\, santena\, torino\, 10026\, Italia
CATEGORIES:comizi e conferenze
END:VEVENT
END:VCALENDAR