BEGIN:VCALENDAR
VERSION:2.0
PRODID:-//Gianni Oliva - ECPv4.6.23//NONSGML v1.0//EN
CALSCALE:GREGORIAN
METHOD:PUBLISH
X-WR-CALNAME:Gianni Oliva
X-ORIGINAL-URL:http://giannioliva.it
X-WR-CALDESC:Events for Gianni Oliva
BEGIN:VEVENT
DTSTART;TZID=Europe/Rome:20161117T180000
DTEND;TZID=Europe/Rome:20161117T190000
DTSTAMP:20260423T202130
CREATED:20161108T093521Z
LAST-MODIFIED:20161108T093521Z
UID:991-1479405600-1479409200@giannioliva.it
SUMMARY:Conferenza\, "La guerra italiana 1940 - 43"\, Circolo dei lettori\, Torino
DESCRIPTION:
URL:http://giannioliva.it/event/conferenza-la-guerra-italiana-1940-43-circolo-dei-lettori-torino/
CATEGORIES:comizi e conferenze
END:VEVENT
END:VCALENDAR