BEGIN:VCALENDAR
VERSION:2.0
PRODID:-//Gianni Oliva - ECPv4.6.23//NONSGML v1.0//EN
CALSCALE:GREGORIAN
METHOD:PUBLISH
X-WR-CALNAME:Gianni Oliva
X-ORIGINAL-URL:http://giannioliva.it
X-WR-CALDESC:Events for Gianni Oliva
BEGIN:VEVENT
DTSTART;TZID=Europe/Rome:20161118T153000
DTEND;TZID=Europe/Rome:20161118T170000
DTSTAMP:20260423T214818
CREATED:20161108T094237Z
LAST-MODIFIED:20161108T094237Z
UID:992-1479483000-1479488400@giannioliva.it
SUMMARY:Conferenza\, "La resistenza dei militari" - Consiglio regionale - sala Viglione
DESCRIPTION:
URL:http://giannioliva.it/event/conferenza-la-resistenza-dei-militari-consiglio-regionale-sala-viglione/
LOCATION:consiglio regionale del Piemonte – Palazzo Lascaris\, Via Alfieri 15\, Torino\, Italia
CATEGORIES:comizi e conferenze
END:VEVENT
END:VCALENDAR