BEGIN:VCALENDAR
VERSION:2.0
PRODID:-//Gianni Oliva - ECPv4.6.23//NONSGML v1.0//EN
CALSCALE:GREGORIAN
METHOD:PUBLISH
X-WR-CALNAME:Gianni Oliva
X-ORIGINAL-URL:http://giannioliva.it
X-WR-CALDESC:Events for Gianni Oliva
BEGIN:VEVENT
DTSTART;TZID=Europe/Rome:20191029T150000
DTEND;TZID=Europe/Rome:20191029T163000
DTSTAMP:20260424T130438
CREATED:20190821T091311Z
LAST-MODIFIED:20190822T125223Z
UID:2169-1572361200-1572366600@giannioliva.it
SUMMARY:Conferenza su “I SAVOIA DA CONTI A DUCHI” - CARMAGNOLA
DESCRIPTION:Conferenza su “I SAVOIA DA CONTI A DUCHI”\n29 ottobre\, h.15.00 – CARMAGNOLA\, UniTre \n
URL:http://giannioliva.it/event/conferenza-su-i-savoia-da-conti-a-duca-carmagnola/
CATEGORIES:Conferenza
END:VEVENT
END:VCALENDAR