BEGIN:VCALENDAR
VERSION:2.0
PRODID:-//Gianni Oliva - ECPv4.6.23//NONSGML v1.0//EN
CALSCALE:GREGORIAN
METHOD:PUBLISH
X-WR-CALNAME:Gianni Oliva
X-ORIGINAL-URL:http://giannioliva.it
X-WR-CALDESC:Events for Gianni Oliva
BEGIN:VEVENT
DTSTART;TZID=Europe/Rome:20191031T090000
DTEND;TZID=Europe/Rome:20191031T170000
DTSTAMP:20260424T154551
CREATED:20190821T091515Z
LAST-MODIFIED:20190821T092454Z
UID:2171-1572512400-1572541200@giannioliva.it
SUMMARY:Convegno per i 250 anni della facoltà di Veterinaria - TORINO
DESCRIPTION:Convegno per i 250 anni della facoltà di Veterinaria\nh.9.00 – TORINO\, Sede Università alla Cavallerizza \n
URL:http://giannioliva.it/event/convegno-per-i-250-anni-della-facolta-di-veterinaria-torino/
CATEGORIES:Conferenza
END:VEVENT
END:VCALENDAR