BEGIN:VCALENDAR
VERSION:2.0
PRODID:-//Gianni Oliva - ECPv4.6.23//NONSGML v1.0//EN
CALSCALE:GREGORIAN
METHOD:PUBLISH
X-WR-CALNAME:Gianni Oliva
X-ORIGINAL-URL:http://giannioliva.it
X-WR-CALDESC:Events for Gianni Oliva
BEGIN:VEVENT
DTSTART;TZID=Europe/Rome:20220908T210000
DTEND;TZID=Europe/Rome:20220908T220000
DTSTAMP:20260424T040432
CREATED:20220909T090625Z
LAST-MODIFIED:20220909T090625Z
UID:5032-1662670800-1662674400@giannioliva.it
SUMMARY:CRESCENTINO (VC) - Conferenza “A CENT’ANNI DALLA MARCIA SU ROMA”
DESCRIPTION:8 settembre\n\n\nh. 21.00 – CRESCENTINO (VC) c/o Teatro Angelino – Conferenza “A CENT’ANNI DALLA MARCIA SU ROMA”\n\n\n
URL:http://giannioliva.it/event/crescentino-vc-conferenza-a-centanni-dalla-marcia-su-roma/
CATEGORIES:Conferenza
END:VEVENT
END:VCALENDAR