BEGIN:VCALENDAR
VERSION:2.0
PRODID:-//Gianni Oliva - ECPv4.6.23//NONSGML v1.0//EN
CALSCALE:GREGORIAN
METHOD:PUBLISH
X-WR-CALNAME:Gianni Oliva
X-ORIGINAL-URL:http://giannioliva.it
X-WR-CALDESC:Events for Gianni Oliva
BEGIN:VEVENT
DTSTART;TZID=Europe/Rome:20220910T210000
DTEND;TZID=Europe/Rome:20220910T230000
DTSTAMP:20260424T030102
CREATED:20220824T121119Z
LAST-MODIFIED:20220824T122520Z
UID:4983-1662843600-1662850800@giannioliva.it
SUMMARY:DECLINAZIONI DELL'ANIMA: "Dalle ragioni delle guerre al dovere della disobbedienza"
DESCRIPTION: \n
URL:http://giannioliva.it/event/declinazioni-dellanima-dalle-ragioni-delle-guerre-al-dovere-della-disobbedienza/
CATEGORIES:Conferenza
END:VEVENT
END:VCALENDAR