BEGIN:VCALENDAR
VERSION:2.0
PRODID:-//Gianni Oliva - ECPv4.6.23//NONSGML v1.0//EN
CALSCALE:GREGORIAN
METHOD:PUBLISH
X-WR-CALNAME:Gianni Oliva
X-ORIGINAL-URL:http://giannioliva.it
X-WR-CALDESC:Events for Gianni Oliva
BEGIN:VEVENT
DTSTART;TZID=Europe/Rome:20240524T173000
DTEND;TZID=Europe/Rome:20240524T193000
DTSTAMP:20260424T040741
CREATED:20240510T115408Z
LAST-MODIFIED:20240510T115408Z
UID:6259-1716571800-1716579000@giannioliva.it
SUMMARY:GORIZIA\, Festival "E' Storia" - Presentazione "45 milioni di antifascisti"
DESCRIPTION:h. 17.30    GORIZIA\, Festival “E’ Storia” – Presentazione “45 milioni di antifascisti”\n
URL:http://giannioliva.it/event/gorizia-festival-e-storia-presentazione-45-milioni-di-antifascisti/
CATEGORIES:Presentazioni
END:VEVENT
END:VCALENDAR