BEGIN:VCALENDAR
VERSION:2.0
PRODID:-//Gianni Oliva - ECPv4.6.23//NONSGML v1.0//EN
CALSCALE:GREGORIAN
METHOD:PUBLISH
X-WR-CALNAME:Gianni Oliva
X-ORIGINAL-URL:http://giannioliva.it
X-WR-CALDESC:Events for Gianni Oliva
BEGIN:VEVENT
DTSTART;TZID=Europe/Rome:20161005T163000
DTEND;TZID=Europe/Rome:20161005T174500
DTSTAMP:20260423T173440
CREATED:20160928T093553Z
LAST-MODIFIED:20161108T092355Z
UID:978-1475685000-1475689500@giannioliva.it
SUMMARY:inaugurazione università terza età di Moncalieri  5/10/2016
DESCRIPTION:INAUGURAZIONE UNI TERZA ETA’ DI MONCALIERI\, CON ANNESSA PRESENTAZIONE DE “GLI ULTIMI GIORNI DELLA MONARCHIA”   5/10/2016        h 16;30 \n  \n
URL:http://giannioliva.it/event/inaugurazione-universita-terza-eta-di-moncalieri-5102016/
LOCATION:università della terza età\, Moncalieri\, via real collegio 2\, moncalieri\, Italia
CATEGORIES:Università terza età
END:VEVENT
END:VCALENDAR