BEGIN:VCALENDAR
VERSION:2.0
PRODID:-//Gianni Oliva - ECPv4.6.23//NONSGML v1.0//EN
CALSCALE:GREGORIAN
METHOD:PUBLISH
X-WR-CALNAME:Gianni Oliva
X-ORIGINAL-URL:http://giannioliva.it
X-WR-CALDESC:Events for Gianni Oliva
BEGIN:VEVENT
DTSTART;TZID=Europe/Rome:20240412T181500
DTEND;TZID=Europe/Rome:20240412T193000
DTSTAMP:20260423T145542
CREATED:20240402T122948Z
LAST-MODIFIED:20240402T122948Z
UID:6178-1712945700-1712950200@giannioliva.it
SUMMARY:IVREA: Presentazione "45 milioni di antifascisti"
DESCRIPTION:\nh. 18.15    IVREA  Libreria Azimut – Via Quattro Martiri 1 – Presentazione “45 milioni di antifascisti”\n\n
URL:http://giannioliva.it/event/ivrea-presentazione-45-milioni-di-antifascisti/
CATEGORIES:Presentazioni
END:VEVENT
END:VCALENDAR