BEGIN:VCALENDAR
VERSION:2.0
PRODID:-//Gianni Oliva - ECPv4.6.23//NONSGML v1.0//EN
CALSCALE:GREGORIAN
METHOD:PUBLISH
X-WR-CALNAME:Gianni Oliva
X-ORIGINAL-URL:http://giannioliva.it
X-WR-CALDESC:Events for Gianni Oliva
BEGIN:VEVENT
DTSTART;TZID=Europe/Rome:20231213T211500
DTEND;TZID=Europe/Rome:20231213T230000
DTSTAMP:20260423T032320
CREATED:20231212T105538Z
LAST-MODIFIED:20231212T125659Z
UID:5948-1702502100-1702508400@giannioliva.it
SUMMARY:La7 ore 21.15 "LA CADUTA cronache della fine del fascismo"
DESCRIPTION:Ci sarò anch’io\n\n\n\n \n
URL:http://giannioliva.it/event/la7-ore-21-15-la-caduta/
CATEGORIES:Radio e Tv
END:VEVENT
END:VCALENDAR