BEGIN:VCALENDAR
VERSION:2.0
PRODID:-//Gianni Oliva - ECPv4.6.23//NONSGML v1.0//EN
CALSCALE:GREGORIAN
METHOD:PUBLISH
X-WR-CALNAME:Gianni Oliva
X-ORIGINAL-URL:http://giannioliva.it
X-WR-CALDESC:Events for Gianni Oliva
BEGIN:VEVENT
DTSTART;TZID=Europe/Rome:20250130T103000
DTEND;TZID=Europe/Rome:20250130T123000
DTSTAMP:20260424T202056
CREATED:20250127T140628Z
LAST-MODIFIED:20250127T140628Z
UID:6681-1738233000-1738240200@giannioliva.it
SUMMARY:LECCE: Presentazione romanzo "Il pendio dei noci"
DESCRIPTION:30 gennaio\n\n\nh. 10.30 LECCE – Aula Magna Liceo “Palmieri” – Presentazione romanzo “Il pendio dei noci”\n\n\n
URL:http://giannioliva.it/event/lecce-presentazione-romanzo-il-pendio-dei-noci/
CATEGORIES:Presentazioni
END:VEVENT
END:VCALENDAR