BEGIN:VCALENDAR
VERSION:2.0
PRODID:-//Gianni Oliva - ECPv4.6.23//NONSGML v1.0//EN
CALSCALE:GREGORIAN
METHOD:PUBLISH
X-WR-CALNAME:Gianni Oliva
X-ORIGINAL-URL:http://giannioliva.it
X-WR-CALDESC:Events for Gianni Oliva
BEGIN:VEVENT
DTSTART;TZID=Europe/Rome:20240215T203000
DTEND;TZID=Europe/Rome:20240215T223000
DTSTAMP:20260423T055246
CREATED:20240205T191348Z
LAST-MODIFIED:20240206T141535Z
UID:6009-1708029000-1708036200@giannioliva.it
SUMMARY:LENTATE SUL SEVESO: Presentazione del libro "45 milioni di antifascisti"
DESCRIPTION:
URL:http://giannioliva.it/event/letante-sul-seveso-presentazione-del-libro-45-milioni-di-antifascisti/
CATEGORIES:Presentazioni
ATTACH;FMTTYPE=image/jpeg:http://giannioliva.it/wp-content/uploads/2024/02/presentazione_libro15.02.2024.jpg
END:VEVENT
END:VCALENDAR