BEGIN:VCALENDAR
VERSION:2.0
PRODID:-//Gianni Oliva - ECPv4.6.23//NONSGML v1.0//EN
CALSCALE:GREGORIAN
METHOD:PUBLISH
X-WR-CALNAME:Gianni Oliva
X-ORIGINAL-URL:http://giannioliva.it
X-WR-CALDESC:Events for Gianni Oliva
BEGIN:VEVENT
DTSTART;TZID=Europe/Rome:20230319T170000
DTEND;TZID=Europe/Rome:20230319T190000
DTSTAMP:20260426T031434
CREATED:20230316T114652Z
LAST-MODIFIED:20230316T115348Z
UID:5563-1679245200-1679252400@giannioliva.it
SUMMARY:MAGLIANO ALFIERI (CN) - Presentazione “Il Purgatorio dei vinti”
DESCRIPTION:19 marzo\n\n\nh. 17.00  MAGLIANO ALFIERI (CN)  –  c/o Biblioteca Comunale – Presentazione “Il Purgatorio dei vinti”\n\n\n
URL:http://giannioliva.it/event/magliano-alfieri-cn-presentazione-il-purgatorio-dei-vinti/
CATEGORIES:Presentazioni
END:VEVENT
END:VCALENDAR