BEGIN:VCALENDAR
VERSION:2.0
PRODID:-//Gianni Oliva - ECPv4.6.23//NONSGML v1.0//EN
CALSCALE:GREGORIAN
METHOD:PUBLISH
X-WR-CALNAME:Gianni Oliva
X-ORIGINAL-URL:http://giannioliva.it
X-WR-CALDESC:Events for Gianni Oliva
BEGIN:VEVENT
DTSTART;TZID=Europe/Rome:20250217T180000
DTEND;TZID=Europe/Rome:20250217T200000
DTSTAMP:20260424T201652
CREATED:20250130T120937Z
LAST-MODIFIED:20250130T120937Z
UID:6743-1739815200-1739822400@giannioliva.it
SUMMARY:MESTRE: Presentazione “45 milioni di antifascisti”
DESCRIPTION:17 febbraio\n\n\nh. 18.00 MESTRE – Biblioteca Comunale – Presentazione “45 milioni di antifascisti”\n\n\n
URL:http://giannioliva.it/event/mestre-presentazione-45-milioni-di-antifascisti/
CATEGORIES:Presentazioni
END:VEVENT
END:VCALENDAR