BEGIN:VCALENDAR
VERSION:2.0
PRODID:-//Gianni Oliva - ECPv4.6.23//NONSGML v1.0//EN
CALSCALE:GREGORIAN
METHOD:PUBLISH
X-WR-CALNAME:Gianni Oliva
X-ORIGINAL-URL:http://giannioliva.it
X-WR-CALDESC:Events for Gianni Oliva
BEGIN:VEVENT
DTSTART;TZID=Europe/Rome:20250221T100000
DTEND;TZID=Europe/Rome:20250221T120000
DTSTAMP:20260424T201530
CREATED:20250130T121437Z
LAST-MODIFIED:20250130T121437Z
UID:6751-1740132000-1740139200@giannioliva.it
SUMMARY:ORVIETO: Presentazione “Il pendio dei noci”
DESCRIPTION:21 febbraio\n\n\nh. 10.00 ORVIETO – Liceo Gualterio – Presentazione “Il pendio dei noci”\n\n\n
URL:http://giannioliva.it/event/orvieto-presentazione-il-pendio-dei-noci/
CATEGORIES:Presentazioni
END:VEVENT
END:VCALENDAR