BEGIN:VCALENDAR
VERSION:2.0
PRODID:-//Gianni Oliva - ECPv4.6.23//NONSGML v1.0//EN
CALSCALE:GREGORIAN
METHOD:PUBLISH
X-WR-CALNAME:Gianni Oliva
X-ORIGINAL-URL:http://giannioliva.it
X-WR-CALDESC:Events for Gianni Oliva
BEGIN:VEVENT
DTSTART;TZID=Europe/Rome:20250221T164500
DTEND;TZID=Europe/Rome:20250221T183000
DTSTAMP:20260424T201345
CREATED:20250130T121548Z
LAST-MODIFIED:20250130T121548Z
UID:6753-1740156300-1740162600@giannioliva.it
SUMMARY:PERUGIA: Presentazione “Il pendio dei noci”
DESCRIPTION:21 febbraio\n\n\nh. 16.45 PERUGIA – Sala della Vaccara – Presentazione “Il pendio dei noci”\n\n\n
URL:http://giannioliva.it/event/perugia-presentazione-il-pendio-dei-noci/
CATEGORIES:Presentazioni
END:VEVENT
END:VCALENDAR