BEGIN:VCALENDAR
VERSION:2.0
PRODID:-//Gianni Oliva - ECPv4.6.23//NONSGML v1.0//EN
CALSCALE:GREGORIAN
METHOD:PUBLISH
X-WR-CALNAME:Gianni Oliva
X-ORIGINAL-URL:http://giannioliva.it
X-WR-CALDESC:Events for Gianni Oliva
BEGIN:VEVENT
DTSTART;TZID=Europe/Rome:20240405T173000
DTEND;TZID=Europe/Rome:20240405T193000
DTSTAMP:20260423T104713
CREATED:20240402T121759Z
LAST-MODIFIED:20240402T122321Z
UID:6168-1712338200-1712345400@giannioliva.it
SUMMARY:PINEROLO: Presentazione del libro "45 milioni di antifascisti"
DESCRIPTION:\n\nPINEROLO c/o Museo Mutuo Soccorso\, Via Pellico 19\n\n\n
URL:http://giannioliva.it/event/pinerolo-c-o-museo-mutuo-soccorso-via-pellico-19/
CATEGORIES:Presentazioni
END:VEVENT
END:VCALENDAR