BEGIN:VCALENDAR
VERSION:2.0
PRODID:-//Gianni Oliva - ECPv4.6.23//NONSGML v1.0//EN
CALSCALE:GREGORIAN
METHOD:PUBLISH
X-WR-CALNAME:Gianni Oliva
X-ORIGINAL-URL:http://giannioliva.it
X-WR-CALDESC:Events for Gianni Oliva
BEGIN:VEVENT
DTSTART;TZID=Europe/Rome:20240417T160000
DTEND;TZID=Europe/Rome:20240417T190000
DTSTAMP:20260423T173901
CREATED:20240402T123340Z
LAST-MODIFIED:20240402T123422Z
UID:6183-1713369600-1713380400@giannioliva.it
SUMMARY:POIRINO: Presentazione "45 milioni di antifascisti"
DESCRIPTION:\n\nh. 16.00     POIRINO  c/o UniTre – Presentazione “45 milioni di antifascisti”\n\n\n
URL:http://giannioliva.it/event/poirino-presentazione-45-milioni-di-antifascisti/
CATEGORIES:Presentazioni
END:VEVENT
END:VCALENDAR