BEGIN:VCALENDAR
VERSION:2.0
PRODID:-//Gianni Oliva - ECPv4.6.23//NONSGML v1.0//EN
CALSCALE:GREGORIAN
METHOD:PUBLISH
X-WR-CALNAME:Gianni Oliva
X-ORIGINAL-URL:http://giannioliva.it
X-WR-CALDESC:Events for Gianni Oliva
BEGIN:VEVENT
DTSTART;TZID=Europe/Rome:20191027T163000
DTEND;TZID=Europe/Rome:20191027T183000
DTSTAMP:20260421T083936
CREATED:20191022T082855Z
LAST-MODIFIED:20191022T083235Z
UID:2308-1572193800-1572201000@giannioliva.it
SUMMARY:PREMIO SATURNIO 2019 - Moncalieri
DESCRIPTION:PREMIO SATURNIO 2019\nnell’ambito della manifestazione: 40° PREMIO LETTERARIO INTERNAZIONALE Città di Moncalieri\n27 ottobre 2019 – Ore 16:30 – MONCALIERI\, Cavallerizza Reale del Castello \n
URL:http://giannioliva.it/event/premio-saturnio-2019-moncalieri/
CATEGORIES:Premiazione
END:VEVENT
END:VCALENDAR