BEGIN:VCALENDAR
VERSION:2.0
PRODID:-//Gianni Oliva - ECPv4.6.23//NONSGML v1.0//EN
CALSCALE:GREGORIAN
METHOD:PUBLISH
X-WR-CALNAME:Gianni Oliva
X-ORIGINAL-URL:http://giannioliva.it
X-WR-CALDESC:Events for Gianni Oliva
BEGIN:VEVENT
DTSTART;TZID=Europe/Rome:20191202T163000
DTEND;TZID=Europe/Rome:20191202T183000
DTSTAMP:20260423T101638
CREATED:20191220T094009Z
LAST-MODIFIED:20191220T094026Z
UID:2717-1575304200-1575311400@giannioliva.it
SUMMARY:Presentazione “ANNI DI PIOMBO E DI TRITOLO”- CARIGNANO
DESCRIPTION:Presentazione “Anni di piombo e di tritolo”\nh. 16.30 – CARIGNANO\, Biblioteca Comunale\n
URL:http://giannioliva.it/event/presentazione-anni-di-piombo-e-di-tritolo-carignano/
CATEGORIES:Presentazioni
ATTACH;FMTTYPE=image/jpeg:http://giannioliva.it/wp-content/uploads/2019/10/978880471223HIG-319x480-2-1.jpg
END:VEVENT
END:VCALENDAR