BEGIN:VCALENDAR
VERSION:2.0
PRODID:-//Gianni Oliva - ECPv4.6.23//NONSGML v1.0//EN
CALSCALE:GREGORIAN
METHOD:PUBLISH
X-WR-CALNAME:Gianni Oliva
X-ORIGINAL-URL:http://giannioliva.it
X-WR-CALDESC:Events for Gianni Oliva
BEGIN:VEVENT
DTSTART;TZID=Europe/Rome:20191028T153000
DTEND;TZID=Europe/Rome:20191028T163000
DTSTAMP:20260424T101741
CREATED:20190821T090247Z
LAST-MODIFIED:20190911T094410Z
UID:2164-1572276600-1572280200@giannioliva.it
SUMMARY:Presentazione “ANNI DI PIOMBO E DI TRITOLO”- PIOSSASCO
DESCRIPTION:Presentazione “Anni di piombo e di tritolo”\nh.15.30 – PIOSSASCO\, Sede UniTre Via Rivalta 15 \n
URL:http://giannioliva.it/event/presentazione-anni-di-piombo-e-di-tritolo-piossasco/
CATEGORIES:Presentazioni
ATTACH;FMTTYPE=image/jpeg:http://giannioliva.it/wp-content/uploads/2019/05/978880471223HIG-319x480-2.jpg
END:VEVENT
END:VCALENDAR