BEGIN:VCALENDAR
VERSION:2.0
PRODID:-//Gianni Oliva - ECPv4.6.23//NONSGML v1.0//EN
CALSCALE:GREGORIAN
METHOD:PUBLISH
X-WR-CALNAME:Gianni Oliva
X-ORIGINAL-URL:http://giannioliva.it
X-WR-CALDESC:Events for Gianni Oliva
BEGIN:VEVENT
DTSTART;TZID=Europe/Rome:20191130T180000
DTEND;TZID=Europe/Rome:20191130T180000
DTSTAMP:20260421T084203
CREATED:20191220T093741Z
LAST-MODIFIED:20191220T093741Z
UID:2715-1575136800-1575136800@giannioliva.it
SUMMARY:Presentazione “ANNI DI PIOMBO E DI TRITOLO”- UDINE
DESCRIPTION:Presentazione “Anni di piombo e di tritolo”\nh. 18.00 – UDINE\, libreria Einaudi\n
URL:http://giannioliva.it/event/presentazione-anni-di-piombo-e-di-tritolo-udine/
CATEGORIES:Presentazioni
ATTACH;FMTTYPE=image/jpeg:http://giannioliva.it/wp-content/uploads/2019/10/978880471223HIG-319x480-2-1.jpg
END:VEVENT
END:VCALENDAR