BEGIN:VCALENDAR
VERSION:2.0
PRODID:-//Gianni Oliva - ECPv4.6.23//NONSGML v1.0//EN
CALSCALE:GREGORIAN
METHOD:PUBLISH
X-WR-CALNAME:Gianni Oliva
X-ORIGINAL-URL:http://giannioliva.it
X-WR-CALDESC:Events for Gianni Oliva
BEGIN:VEVENT
DTSTART;TZID=Europe/Rome:20191017T210000
DTEND;TZID=Europe/Rome:20191017T223000
DTSTAMP:20260422T084630
CREATED:20190821T085723Z
LAST-MODIFIED:20190821T085723Z
UID:2160-1571346000-1571351400@giannioliva.it
SUMMARY:Presentazione “ANNI DI PIOMBO E DI TRITOLO”- VILLASTELLONE
DESCRIPTION:Presentazione “Anni di piombo e di tritolo”\nh.21.00 – VILLASTELLONE\, Sede UniTre \n
URL:http://giannioliva.it/event/presentazione-anni-di-piombo-e-di-tritolo-villastellone/
CATEGORIES:Presentazioni
ATTACH;FMTTYPE=image/jpeg:http://giannioliva.it/wp-content/uploads/2019/05/978880471223HIG-319x480-2.jpg
END:VEVENT
END:VCALENDAR