BEGIN:VCALENDAR
VERSION:2.0
PRODID:-//Gianni Oliva - ECPv4.6.23//NONSGML v1.0//EN
CALSCALE:GREGORIAN
METHOD:PUBLISH
X-WR-CALNAME:Gianni Oliva
X-ORIGINAL-URL:http://giannioliva.it
X-WR-CALDESC:Events for Gianni Oliva
BEGIN:VEVENT
DTSTART;TZID=Europe/Rome:20161114T160000
DTEND;TZID=Europe/Rome:20161114T170000
DTSTAMP:20260423T161209
CREATED:20160629T124657Z
LAST-MODIFIED:20160629T124657Z
UID:948-1479139200-1479142800@giannioliva.it
SUMMARY:Presentazione del volume “Gli ultimi giorni della monarchia”\, Biblioteca comunale\, Carignano
DESCRIPTION:
URL:http://giannioliva.it/event/presentazione-del-volume-gli-ultimi-giorni-della-monarchia-biblioteca-comunale-carignano/
LOCATION:Biblioteca comunale – Carignano\, Via Sebastiano Fricchieri 13\, Carignano TO\, TO\, 10041\, Italia
CATEGORIES:Presentazioni
END:VEVENT
END:VCALENDAR