BEGIN:VCALENDAR
VERSION:2.0
PRODID:-//Gianni Oliva - ECPv4.6.23//NONSGML v1.0//EN
CALSCALE:GREGORIAN
METHOD:PUBLISH
X-WR-CALNAME:Gianni Oliva
X-ORIGINAL-URL:http://giannioliva.it
X-WR-CALDESC:Events for Gianni Oliva
BEGIN:VEVENT
DTSTART;TZID=Europe/Rome:20160510T170000
DTEND;TZID=Europe/Rome:20160510T180000
DTSTAMP:20260423T153627
CREATED:20160429T105355Z
LAST-MODIFIED:20160629T121316Z
UID:890-1462899600-1462903200@giannioliva.it
SUMMARY:Presentazione del volume “Gli ultimi giorni della monarchia” – Castello di Santena
DESCRIPTION:Interviene Bruno Gambarotta \n
URL:http://giannioliva.it/event/presentazione-del-volume-gli-ultimi-giorni-della-monarchia-castello-di-santena/
LOCATION:Castello di Santena\, Piazza Visconti Venosta 2 \, Santena (To)\, Italia
CATEGORIES:Presentazioni
END:VEVENT
END:VCALENDAR