BEGIN:VCALENDAR
VERSION:2.0
PRODID:-//Gianni Oliva - ECPv4.6.23//NONSGML v1.0//EN
CALSCALE:GREGORIAN
METHOD:PUBLISH
X-WR-CALNAME:Gianni Oliva
X-ORIGINAL-URL:http://giannioliva.it
X-WR-CALDESC:Events for Gianni Oliva
BEGIN:VEVENT
DTSTART;TZID=Europe/Rome:20160805T180000
DTEND;TZID=Europe/Rome:20160805T193000
DTSTAMP:20260423T122206
CREATED:20160629T123107Z
LAST-MODIFIED:20160629T123641Z
UID:942-1470420000-1470425400@giannioliva.it
SUMMARY:Presentazione del volume "Gli ultimi giorni della monarchia"\, Libreria Panassi\, Ulzio
DESCRIPTION:
URL:http://giannioliva.it/event/presentazione-del-volume-gli-ultimi-giorni-della-monarchia-libreria-panassi-ulzio/
LOCATION:Libreria Panassi\, corso Torino 118\, Oulx\, Italia
CATEGORIES:Presentazioni
END:VEVENT
END:VCALENDAR