BEGIN:VCALENDAR
VERSION:2.0
PRODID:-//Gianni Oliva - ECPv4.6.23//NONSGML v1.0//EN
CALSCALE:GREGORIAN
METHOD:PUBLISH
X-WR-CALNAME:Gianni Oliva
X-ORIGINAL-URL:http://giannioliva.it
X-WR-CALDESC:Events for Gianni Oliva
BEGIN:VEVENT
DTSTART;TZID=Europe/Rome:20160526T210000
DTEND;TZID=Europe/Rome:20160526T220000
DTSTAMP:20260423T110454
CREATED:20160429T112354Z
LAST-MODIFIED:20160629T121316Z
UID:902-1464296400-1464300000@giannioliva.it
SUMMARY:Presentazione del volume “Gli ultimi giorni della monarchia” – MORETTA (CN)
DESCRIPTION:
URL:http://giannioliva.it/event/presentazione-del-volume-gli-ultimi-giorni-della-monarchia-moretta-cn/
LOCATION:Sala municipale\,  Piazza Umberto I\, 1\, Moretta ( CN)\, Italia
CATEGORIES:Presentazioni
END:VEVENT
END:VCALENDAR