BEGIN:VCALENDAR
VERSION:2.0
PRODID:-//Gianni Oliva - ECPv4.6.23//NONSGML v1.0//EN
CALSCALE:GREGORIAN
METHOD:PUBLISH
X-WR-CALNAME:Gianni Oliva
X-ORIGINAL-URL:http://giannioliva.it
X-WR-CALDESC:Events for Gianni Oliva
BEGIN:VEVENT
DTSTART;TZID=Europe/Rome:20160813T210000
DTEND;TZID=Europe/Rome:20160813T220000
DTSTAMP:20260423T145154
CREATED:20160629T124037Z
LAST-MODIFIED:20160629T124955Z
UID:946-1471122000-1471125600@giannioliva.it
SUMMARY:Presentazione del volume “Gli ultimi giorni della monarchia” \, San  Benedetto del Tronto
DESCRIPTION:Biblioteca comunale di San Benedetto del Tronto ( Ascoli Piceno) \n
URL:http://giannioliva.it/event/presentazione-del-volume-gli-ultimi-giorni-della-monarchia-san-benedetto-del-tronto/
LOCATION:Biblioteca comunale – San Benedetto del Tronto\, Viale Alcide de Gasperi\, 124\, San Benedetto del Tronto \, AP\, 63039 \, Italia
CATEGORIES:Presentazioni
END:VEVENT
END:VCALENDAR