BEGIN:VCALENDAR
VERSION:2.0
PRODID:-//Gianni Oliva - ECPv4.6.23//NONSGML v1.0//EN
CALSCALE:GREGORIAN
METHOD:PUBLISH
X-WR-CALNAME:Gianni Oliva
X-ORIGINAL-URL:http://giannioliva.it
X-WR-CALDESC:Events for Gianni Oliva
BEGIN:VEVENT
DTSTART;TZID=Europe/Rome:20160502T150000
DTEND;TZID=Europe/Rome:20160502T163000
DTSTAMP:20260421T084911
CREATED:20160429T103129Z
LAST-MODIFIED:20160629T121316Z
UID:881-1462201200-1462206600@giannioliva.it
SUMMARY:Presentazione del volume “Gli ultimi giorni della monarchia” – Unione Industriale ( To)
DESCRIPTION:
URL:http://giannioliva.it/event/presentazione-del-volume-gli-ultimi-giorni-della-monarchia-unione-industriale-to/
LOCATION:Caffè letterari- unione industriale\, Via Fanti\, 17 \, Torino\, Italia
CATEGORIES:Presentazioni
END:VEVENT
END:VCALENDAR