BEGIN:VCALENDAR
VERSION:2.0
PRODID:-//Gianni Oliva - ECPv4.6.23//NONSGML v1.0//EN
CALSCALE:GREGORIAN
METHOD:PUBLISH
X-WR-CALNAME:Gianni Oliva
X-ORIGINAL-URL:http://giannioliva.it
X-WR-CALDESC:Events for Gianni Oliva
BEGIN:VEVENT
DTSTART;TZID=Europe/Rome:20160414T210000
DTEND;TZID=Europe/Rome:20160414T223000
DTSTAMP:20260421T084416
CREATED:20160124T170304Z
LAST-MODIFIED:20160629T121138Z
UID:778-1460667600-1460673000@giannioliva.it
SUMMARY:Presentazione del volume “Il tesoro dei vinti” - CHIAVENNA (SO)
DESCRIPTION:
URL:http://giannioliva.it/event/presentazione-del-volume-il-tesoro-dei-vinti-chiavenna-so/
LOCATION:Biblioteca Comunale CHIAVENNA\, Biblioteca Comunale\, Chiavenna\, Sondrio\, Italy
CATEGORIES:Presentazioni
END:VEVENT
END:VCALENDAR