BEGIN:VCALENDAR
VERSION:2.0
PRODID:-//Gianni Oliva - ECPv4.6.23//NONSGML v1.0//EN
CALSCALE:GREGORIAN
METHOD:PUBLISH
X-WR-CALNAME:Gianni Oliva
X-ORIGINAL-URL:http://giannioliva.it
X-WR-CALDESC:Events for Gianni Oliva
BEGIN:VEVENT
DTSTART;TZID=Europe/Rome:20160301T173000
DTEND;TZID=Europe/Rome:20160301T183000
DTSTAMP:20260421T114410
CREATED:20160124T165959Z
LAST-MODIFIED:20160629T121837Z
UID:772-1456853400-1456857000@giannioliva.it
SUMMARY:Presentazione del volume “Il tesoro dei vinti”
DESCRIPTION:
URL:http://giannioliva.it/event/presentazione-del-volume-il-tesoro-dei-vinti/
LOCATION: LIbrteria LOVAT Treviso\,  LIbrteria LOVAT\, Treviso\, Italy
CATEGORIES:Presentazioni
END:VEVENT
END:VCALENDAR