BEGIN:VCALENDAR
VERSION:2.0
PRODID:-//Gianni Oliva - ECPv4.6.23//NONSGML v1.0//EN
CALSCALE:GREGORIAN
METHOD:PUBLISH
X-WR-CALNAME:Gianni Oliva
X-ORIGINAL-URL:http://giannioliva.it
X-WR-CALDESC:Events for Gianni Oliva
BEGIN:VEVENT
DTSTART;TZID=Europe/Rome:20181001T180000
DTEND;TZID=Europe/Rome:20181001T200000
DTSTAMP:20260421T102044
CREATED:20180921T142237Z
LAST-MODIFIED:20180929T142839Z
UID:1418-1538416800-1538424000@giannioliva.it
SUMMARY:Presentazione del volume “La grande storia della Resistenza 1943-1948” c/o Circolo dei lettori
DESCRIPTION:Presentazione del volume “La grande storia della Resistenza 1943-49” c/o Circolo dei lettori \nTorino\, Via Giambattista Bogino\, 9. h.18:00. \nOLIVA1 \n
URL:http://giannioliva.it/event/presentazione-del-volume-la-grande-storia-della-resistenza-1943-48-c-o-circolo-dei-lettori/
LOCATION:Circolo dei lettori\, Via Bogino 9\, Torino\, Italia
CATEGORIES:Presentazioni
ATTACH;FMTTYPE=image/jpeg:http://giannioliva.it/wp-content/uploads/2018/09/Invito_presentazione-libro4.jpg
END:VEVENT
END:VCALENDAR