BEGIN:VCALENDAR
VERSION:2.0
PRODID:-//Gianni Oliva - ECPv4.6.23//NONSGML v1.0//EN
CALSCALE:GREGORIAN
METHOD:PUBLISH
X-WR-CALNAME:Gianni Oliva
X-ORIGINAL-URL:http://giannioliva.it
X-WR-CALDESC:Events for Gianni Oliva
BEGIN:VEVENT
DTSTART;TZID=Europe/Rome:20180614T180000
DTEND;TZID=Europe/Rome:20180614T200000
DTSTAMP:20260422T100118
CREATED:20180605T203425Z
LAST-MODIFIED:20180606T053253Z
UID:1378-1528999200-1529006400@giannioliva.it
SUMMARY:Presentazione del volume “La grande storia della resistenza 1943-48” c/o Istituto storico della Resistenza
DESCRIPTION:Presentazione del volume “La grande storia della resistenza 1943-48” c/o Istituto storico della Resistenza \nNuoro – Via Leonardo da Vinci\, 42\, h.18:00. \n
URL:http://giannioliva.it/event/presentazione-del-volume-la-grande-storia-della-resistenza-1943-48-c-o-istituto-storico-della-resistenza/
CATEGORIES:Presentazioni
END:VEVENT
END:VCALENDAR