BEGIN:VCALENDAR
VERSION:2.0
PRODID:-//Gianni Oliva - ECPv4.6.23//NONSGML v1.0//EN
CALSCALE:GREGORIAN
METHOD:PUBLISH
X-WR-CALNAME:Gianni Oliva
X-ORIGINAL-URL:http://giannioliva.it
X-WR-CALDESC:Events for Gianni Oliva
BEGIN:VEVENT
DTSTART;TZID=Europe/Rome:20160512T140000
DTEND;TZID=Europe/Rome:20160512T150000
DTSTAMP:20260423T164018
CREATED:20160429T110606Z
LAST-MODIFIED:20160629T121137Z
UID:894-1463061600-1463065200@giannioliva.it
SUMMARY:Presentazione del volume "Storia del Piemonte" con Chiamparino\, Salone del libro
DESCRIPTION:Con SERGIO CHIAMPARINO \n
URL:http://giannioliva.it/event/presentazione-del-volume-storia-del-piemonte-con-chiamparino-salone-del-libro/
LOCATION:Salone del libro – Spazio autori\, Lingotto fiere - Via Nizza\, 294\, Torino\, Italia
CATEGORIES:Presentazioni
END:VEVENT
END:VCALENDAR