BEGIN:VCALENDAR
VERSION:2.0
PRODID:-//Gianni Oliva - ECPv4.6.23//NONSGML v1.0//EN
CALSCALE:GREGORIAN
METHOD:PUBLISH
X-WR-CALNAME:Gianni Oliva
X-ORIGINAL-URL:http://giannioliva.it
X-WR-CALDESC:Events for Gianni Oliva
BEGIN:VEVENT
DTSTART;TZID=Europe/Rome:20161019T170000
DTEND;TZID=Europe/Rome:20161019T180000
DTSTAMP:20260423T173210
CREATED:20160629T125405Z
LAST-MODIFIED:20160629T125653Z
UID:953-1476896400-1476900000@giannioliva.it
SUMMARY:Presentazione del volume “Una regalità completa” di Caterina Boratto\, Circolo Ufficiali\, Torino
DESCRIPTION:
URL:http://giannioliva.it/event/presentazione-del-volume-una-regalita-completa-di-caterina-boratto-circolo-ufficiali-torino/
LOCATION:Circolo Ufficiali. Palazzo Pralormo\, Torino\, Via Manfredo Fanti 17\, Torino\, TO\, 10128\, Italia
CATEGORIES:Presentazioni
END:VEVENT
END:VCALENDAR