BEGIN:VCALENDAR
VERSION:2.0
PRODID:-//Gianni Oliva - ECPv4.6.23//NONSGML v1.0//EN
CALSCALE:GREGORIAN
METHOD:PUBLISH
X-WR-CALNAME:Gianni Oliva
X-ORIGINAL-URL:http://giannioliva.it
X-WR-CALDESC:Events for Gianni Oliva
BEGIN:VEVENT
DTSTART;TZID=Europe/Rome:20191202T180000
DTEND;TZID=Europe/Rome:20191202T200000
DTSTAMP:20260425T214115
CREATED:20191220T094221Z
LAST-MODIFIED:20191220T094221Z
UID:2719-1575309600-1575316800@giannioliva.it
SUMMARY:Presentazione di ELENA D'AMBROSIO NAVONE - TORINO
DESCRIPTION:Presentazione di Elena D’Ambrosio Navone\nh.18.00 – TORINO\, Circolo dei Lettori\n  \n
URL:http://giannioliva.it/event/presentazione-di-elena-dambrosio-navone-torino/
CATEGORIES:Premiazione
END:VEVENT
END:VCALENDAR