BEGIN:VCALENDAR
VERSION:2.0
PRODID:-//Gianni Oliva - ECPv4.6.23//NONSGML v1.0//EN
CALSCALE:GREGORIAN
METHOD:PUBLISH
X-WR-CALNAME:Gianni Oliva
X-ORIGINAL-URL:http://giannioliva.it
X-WR-CALDESC:Events for Gianni Oliva
BEGIN:VEVENT
DTSTART;TZID=Europe/Rome:20161116T150000
DTEND;TZID=Europe/Rome:20161116T160000
DTSTAMP:20260423T173923
CREATED:20161108T092725Z
LAST-MODIFIED:20161108T092725Z
UID:987-1479308400-1479312000@giannioliva.it
SUMMARY:Presentazione "Gli ultimi giorni della monarchia"\, Teatro civico\, Asti
DESCRIPTION:
URL:http://giannioliva.it/event/presentazione-gli-ultimi-giorni-della-monarchia-teatro-civico-asti/
LOCATION:Teatro civico\, Via Teatro Alfieri\, 2\, asti\, Italia
CATEGORIES:Presentazioni
END:VEVENT
END:VCALENDAR