BEGIN:VCALENDAR
VERSION:2.0
PRODID:-//Gianni Oliva - ECPv4.6.23//NONSGML v1.0//EN
CALSCALE:GREGORIAN
METHOD:PUBLISH
X-WR-CALNAME:Gianni Oliva
X-ORIGINAL-URL:http://giannioliva.it
X-WR-CALDESC:Events for Gianni Oliva
BEGIN:VEVENT
DTSTART;TZID=Europe/Rome:20161206T153000
DTEND;TZID=Europe/Rome:20161206T170000
DTSTAMP:20260424T002257
CREATED:20161108T095713Z
LAST-MODIFIED:20161108T095713Z
UID:999-1481038200-1481043600@giannioliva.it
SUMMARY:Presentazione “Gli ultimi giorni della monarchia”\, Unitre Lingotto\, Torino
DESCRIPTION:
URL:http://giannioliva.it/event/presentazione-gli-ultimi-giorni-della-monarchia-unitre-lingotto-torino/
LOCATION:Unitre Lingotto\, Torino\, Via Tepice 23/c\, Torino\, Italia
CATEGORIES:Presentazioni
END:VEVENT
END:VCALENDAR