BEGIN:VCALENDAR
VERSION:2.0
PRODID:-//Gianni Oliva - ECPv4.6.23//NONSGML v1.0//EN
CALSCALE:GREGORIAN
METHOD:PUBLISH
X-WR-CALNAME:Gianni Oliva
X-ORIGINAL-URL:http://giannioliva.it
X-WR-CALDESC:Events for Gianni Oliva
BEGIN:VEVENT
DTSTART;TZID=Europe/Rome:20181018T210000
DTEND;TZID=Europe/Rome:20181018T230000
DTSTAMP:20260421T084446
CREATED:20180921T155737Z
LAST-MODIFIED:20180921T155737Z
UID:1473-1539896400-1539903600@giannioliva.it
SUMMARY:Presentazione “Il caso Moro” c/o (sede da definire)
DESCRIPTION:Presentazione “Il caso Moro” c/o (sede da definire) \n  \nEmpoli\, (sede da definire). h. 21:0 \n
URL:http://giannioliva.it/event/presentazione-il-caso-moro-c-o-sede-da-definire/
CATEGORIES:Presentazioni
END:VEVENT
END:VCALENDAR