BEGIN:VCALENDAR
VERSION:2.0
PRODID:-//Gianni Oliva - ECPv4.6.23//NONSGML v1.0//EN
CALSCALE:GREGORIAN
METHOD:PUBLISH
X-WR-CALNAME:Gianni Oliva
X-ORIGINAL-URL:http://giannioliva.it
X-WR-CALDESC:Events for Gianni Oliva
BEGIN:VEVENT
DTSTART;TZID=Europe/Rome:20230112T170000
DTEND;TZID=Europe/Rome:20230112T183000
DTSTAMP:20260426T042239
CREATED:20221219T135227Z
LAST-MODIFIED:20221219T135755Z
UID:5375-1673542800-1673548200@giannioliva.it
SUMMARY:PRESENTAZIONE: "Le avventure del carabiniere Ugo Luca"
DESCRIPTION:12 gennaio\n\n\nh. 17.00 – ROMA – Piazza Risorgimento\, 46 – Presentazione “Le avventure del carabiniere Ugo Luca”\n\n\n \n
URL:http://giannioliva.it/event/presentazione-le-avventure-del-carabiniere-ugo-luca/
CATEGORIES:Presentazioni
END:VEVENT
END:VCALENDAR