BEGIN:VCALENDAR
VERSION:2.0
PRODID:-//Gianni Oliva - ECPv4.6.23//NONSGML v1.0//EN
CALSCALE:GREGORIAN
METHOD:PUBLISH
X-WR-CALNAME:Gianni Oliva
X-ORIGINAL-URL:http://giannioliva.it
X-WR-CALDESC:Events for Gianni Oliva
BEGIN:VEVENT
DTSTART;TZID=Europe/Rome:20160311T190000
DTEND;TZID=Europe/Rome:20160311T203000
DTSTAMP:20260421T114813
CREATED:20160124T170116Z
LAST-MODIFIED:20160629T121811Z
UID:774-1457722800-1457728200@giannioliva.it
SUMMARY:Presentazione volume “Il tesoro dei vinti” - TREPUZZI (Lecce)
DESCRIPTION:
URL:http://giannioliva.it/event/presentazione-volume-il-tesoro-dei-vinti-trepuzzi-lecce/
LOCATION:TREPUZZI – Circolo Galileo\, Circolo Galileo\, TREPUZZI\, Lecce\, Italy
CATEGORIES:Presentazioni
END:VEVENT
END:VCALENDAR