BEGIN:VCALENDAR
VERSION:2.0
PRODID:-//Gianni Oliva - ECPv4.6.23//NONSGML v1.0//EN
CALSCALE:GREGORIAN
METHOD:PUBLISH
X-WR-CALNAME:Gianni Oliva
X-ORIGINAL-URL:http://giannioliva.it
X-WR-CALDESC:Events for Gianni Oliva
BEGIN:VEVENT
DTSTART;TZID=Europe/Rome:20240320T204500
DTEND;TZID=Europe/Rome:20240320T230000
DTSTAMP:20260423T082514
CREATED:20240312T124658Z
LAST-MODIFIED:20240313T084708Z
UID:6120-1710967500-1710975600@giannioliva.it
SUMMARY:RACCONIGI: Presentazione del libro "45 milioni di antifascisti"
DESCRIPTION:
URL:http://giannioliva.it/event/racconigi/
CATEGORIES:Presentazioni
ATTACH;FMTTYPE=image/jpeg:http://giannioliva.it/wp-content/uploads/2024/03/IMG-20240308-WA0001.jpg
END:VEVENT
END:VCALENDAR