BEGIN:VCALENDAR
VERSION:2.0
PRODID:-//Gianni Oliva - ECPv4.6.23//NONSGML v1.0//EN
CALSCALE:GREGORIAN
METHOD:PUBLISH
X-WR-CALNAME:Gianni Oliva
X-ORIGINAL-URL:http://giannioliva.it
X-WR-CALDESC:Events for Gianni Oliva
BEGIN:VEVENT
DTSTART;TZID=Europe/Rome:20240409T210000
DTEND;TZID=Europe/Rome:20240409T230000
DTSTAMP:20260423T122243
CREATED:20240402T122544Z
LAST-MODIFIED:20240402T122630Z
UID:6174-1712696400-1712703600@giannioliva.it
SUMMARY:RIO SALICETO: Presentazione "45 milioni di antifascisti"
DESCRIPTION:\n\nh. 21.00    RIO SALICETO (Reggio Emilia) c/o Salone Comunale – Presentazione “45 milioni di antifascisti”\n\n\n
URL:http://giannioliva.it/event/rio-saliceto-presentazione-45-milioni-di-antifascisti/
CATEGORIES:Presentazioni
END:VEVENT
END:VCALENDAR